BEGIN:VCALENDAR
VERSION:2.0
PRODID:-//Communities For Children Greater Shepparton - ECPv4.6.26.1//NONSGML v1.0//EN
CALSCALE:GREGORIAN
METHOD:PUBLISH
X-WR-CALNAME:Communities For Children Greater Shepparton
X-ORIGINAL-URL:https://sheppartoncfc.com.au
X-WR-CALDESC:Events for Communities For Children Greater Shepparton
BEGIN:VEVENT
DTSTART;TZID=Australia/Melbourne:20190301T110000
DTEND;TZID=Australia/Melbourne:20190301T130000
DTSTAMP:20190227T181719
CREATED:20190214T082138Z
LAST-MODIFIED:20190214T082212Z
UID:1132-1551438000-1551445200@sheppartoncfc.com.au
SUMMARY:Shepparton BreakThrough - Primary Care Connect
DESCRIPTION: \n
URL:https://sheppartoncfc.com.au/event/shepparton-breakthrough-primary-care-connect/
LOCATION:Primary Care Connect\, 399 Wyndham Street\, Shepparton\, Victoria\, 3630\, Australia
CATEGORIES:Parents & Families,Professionals
END:VEVENT
END:VCALENDAR