BEGIN:VCALENDAR
VERSION:2.0
PRODID:-//Communities For Children Greater Shepparton - ECPv4.6.11.1//NONSGML v1.0//EN
CALSCALE:GREGORIAN
METHOD:PUBLISH
X-WR-CALNAME:Communities For Children Greater Shepparton
X-ORIGINAL-URL:http://sheppartoncfc.com.au
X-WR-CALDESC:Events for Communities For Children Greater Shepparton
BEGIN:VEVENT
DTSTART;TZID=UTC+0:20180221T130000
DTEND;TZID=UTC+0:20180221T160000
DTSTAMP:20180225T150120
CREATED:20180221T060422Z
LAST-MODIFIED:20180221T060422Z
UID:797-1519218000-1519228800@sheppartoncfc.com.au
SUMMARY:Presentation Skills Workshop
DESCRIPTION: \n
URL:http://sheppartoncfc.com.au/event/presentation-skills-workshop/
LOCATION:210 Fryers St\, Shepparton\, Victoria\, 3630\, Australia
CATEGORIES:Professionals
END:VEVENT
BEGIN:VEVENT
DTSTART;TZID=UTC+0:20180301T163000
DTEND;TZID=UTC+0:20180301T183000
DTSTAMP:20180225T150120
CREATED:20180221T060811Z
LAST-MODIFIED:20180221T062255Z
UID:801-1519921800-1519929000@sheppartoncfc.com.au
SUMMARY:Child Safety and Happiness Display Night
DESCRIPTION: \n
URL:http://sheppartoncfc.com.au/event/child-safety-happiness-display-night/
LOCATION:137-139 High Street\, Shepparton\, Victoria\, 3630
CATEGORIES:Parents & Families,Professionals
END:VEVENT
END:VCALENDAR